BEGIN:VCALENDAR
VERSION:2.0
PRODID:-//ChamberMaster//Event Calendar 2.0//EN
METHOD:PUBLISH
X-PUBLISHED-TTL:P3D
REFRESH-INTERVAL:P3D
CALSCALE:GREGORIAN
BEGIN:VEVENT
DTSTART:20080901T220000Z
DTEND:20080902T010000Z
X-MICROSOFT-CDO-ALLDAYEVENT:FALSE
SUMMARY:NAPL Joint Parks District Board Meeting
DESCRIPTION:
X-ALT-DESC;FMTTYPE=text/html:
LOCATION:
UID:e.304.25
SEQUENCE:3
DTSTAMP:20260422T115027Z
URL:https://cm.newalbanychamber.com/events/details/napl-joint-parks-district-board-meeting-09-01-2008-25
END:VEVENT

END:VCALENDAR
