BEGIN:VCALENDAR
VERSION:2.0
PRODID:-//ChamberMaster//Event Calendar 2.0//EN
METHOD:PUBLISH
X-PUBLISHED-TTL:P3D
REFRESH-INTERVAL:P3D
CALSCALE:GREGORIAN
BEGIN:VEVENT
DTSTART:20081201T230000Z
DTEND:20081202T020000Z
X-MICROSOFT-CDO-ALLDAYEVENT:FALSE
SUMMARY:NAPL Joint Parks District Board Meeting
DESCRIPTION:
X-ALT-DESC;FMTTYPE=text/html:
LOCATION:
UID:e.304.28
SEQUENCE:3
DTSTAMP:20260422T070924Z
URL:https://cm.newalbanychamber.com/events/details/napl-joint-parks-district-board-meeting-12-01-2008-28
END:VEVENT

END:VCALENDAR
