BEGIN:VCALENDAR
VERSION:2.0
PRODID:-//ChamberMaster//Event Calendar 2.0//EN
METHOD:PUBLISH
X-PUBLISHED-TTL:P3D
REFRESH-INTERVAL:P3D
CALSCALE:GREGORIAN
BEGIN:VEVENT
DTSTART:20260624T174500Z
DTEND:20260624T200000Z
X-MICROSOFT-CDO-ALLDAYEVENT:FALSE
SUMMARY:Navigating Tough Conversations
DESCRIPTION:What's the one conversation you know you need to have?\n\nUncomfortable conversations are inevitable and your success is often shaped by how willing you are to have them and how well you handle them.\n\n \n\nThis interactive workshop focuses on one of the most essential leadership skills: navigating difficult dialogue with clarity\, confidence\, and purpose. Grounded in research on workplace conflict\, you'll explore the real cost of avoidance and its impact on teams\, culture\, and outcomes. Through practical tools\, real-world examples\, and candid stories\, you'll gain a repeatable framework to prepare for\, navigate\, and follow up on challenging conversations.\n\n \n\nLearn how to:\n\n\n	Prepare with intention and clarity\n	Manage emotional triggers and respond effectively\n	Communicate directly while maintaining trust\n	Navigate conflict productively\n	Follow through to drive understanding and results\n\n\nYou'll leave with a clear\, practical blueprint and the confidence to finally have the conversations that matter most.\n\n \n\nFacilitated by Jessica Pfister\, Senior Director of Operations for The Ohio State University's Outpatient Care Centers\, this session draws on her leadership experience in complex healthcare environments\, along with her background in speech-language pathology and business. Jess is a passionate coach and national speaker on leadership\, communication\, and inclusion. \n\n\n\n1:45pm - 2:00pm Security Check-In (bring photo ID)\n\n2:00pm - 4:00pm Workshop
X-ALT-DESC;FMTTYPE=text/html:<div style="text-align: justify\;"><br />\n<em>What&rsquo\;s the one conversation you know you need to have?</em><br />\nUncomfortable conversations are inevitable&mdash\;and your success is often shaped by how willing you are to have them and how well you handle them.<br />\n&nbsp\;<br />\nThis interactive workshop focuses on one of the most essential leadership skills: navigating difficult dialogue with clarity\, confidence\, and purpose.&nbsp\;Grounded in research on workplace conflict\, you&rsquo\;ll explore the real cost of avoidance and its impact on teams\, culture\, and outcomes. Through practical tools\, real-world examples\, and candid stories\, you&rsquo\;ll gain a repeatable framework to prepare for\, navigate\, and follow up on challenging conversations.<br />\n&nbsp\;<br />\nLearn how to:</div>\n\n<ul>\n	<li style="text-align: justify\;">Prepare with intention and clarity</li>\n	<li style="text-align: justify\;">Manage emotional triggers and respond effectively</li>\n	<li style="text-align: justify\;">Communicate directly while maintaining trust</li>\n	<li style="text-align: justify\;">Navigate conflict productively</li>\n	<li style="text-align: justify\;">Follow through to drive understanding and results</li>\n</ul>\n\n<div style="text-align: justify\;">You&rsquo\;ll leave with a clear\, practical blueprint&mdash\;and the confidence to finally have the conversations that matter most.<br />\n&nbsp\;<br />\nFacilitated by Jessica Pfister\, Senior Director of Operations for The Ohio State University&rsquo\;s Outpatient Care Centers\, this session draws on her leadership experience in complex healthcare environments\, along with her background in speech-language pathology and business. Jess is a passionate coach and national speaker on leadership\, communication\, and inclusion.&nbsp\;<br />\n<br />\n1:45pm - 2:00pm Security Check-In (bring photo ID)<br />\n2:00pm - 4:00pm Workshop</div>\n
LOCATION:AEP Ohio Transmission HQ Park in designated Visitor Parking spaces.
UID:e.304.21920
SEQUENCE:3
DTSTAMP:20260423T171137Z
URL:https://cm.newalbanychamber.com/events/details/navigating-tough-conversations-21920
END:VEVENT

END:VCALENDAR
