BEGIN:VCALENDAR
VERSION:2.0
PRODID:-//ChamberMaster//Event Calendar 2.0//EN
METHOD:PUBLISH
X-PUBLISHED-TTL:P3D
REFRESH-INTERVAL:P3D
CALSCALE:GREGORIAN
BEGIN:VEVENT
DTSTART:20101020T223000Z
DTEND:20101021T003000Z
X-MICROSOFT-CDO-ALLDAYEVENT:FALSE
SUMMARY:NAWN Annual Meeting and Mixer
DESCRIPTION:
X-ALT-DESC;FMTTYPE=text/html:
LOCATION:Landon's Corners\, New Albany
UID:e.304.693
SEQUENCE:3
DTSTAMP:20260420T225531Z
URL:https://cm.newalbanychamber.com/events/details/nawn-annual-meeting-and-mixer-10-20-2010-693
END:VEVENT

END:VCALENDAR
