BEGIN:VCALENDAR
VERSION:2.0
PRODID:-//ChamberMaster//Event Calendar 2.0//EN
METHOD:PUBLISH
X-PUBLISHED-TTL:P3D
REFRESH-INTERVAL:P3D
CALSCALE:GREGORIAN
BEGIN:VEVENT
DTSTART;VALUE=DATE:20081022
DTEND;VALUE=DATE:20081023
TRANSP:TRANSPARENT
X-MICROSOFT-CDO-ALLDAYEVENT:TRUE
SUMMARY:NAWN Annual Meeting & Mixer
DESCRIPTION:Please join the New Albany Women's Network for our Annual Meeting & Mixer on Wednesday\, October 22\, from 6:30pm until 8:30pm at the home of Sarah Ryan\, 3700 Prestwould Close\, in New Albany. NAWN members will vote on the Slate for the 2009 Board of Directors. Following the brief meeting will be a social mixer. No need RSVP but plan on joining the fun. For more information visit NAWN.org.
X-ALT-DESC;FMTTYPE=text/html:<div>Please join the New Albany Women's Network for our Annual Meeting &amp\; Mixer on Wednesday\, October 22\, from 6:30pm until 8:30pm at the home of Sarah Ryan\, 3700 Prestwould Close\, in New Albany. NAWN members will vote on the Slate for the 2009 Board of Directors. Following the brief meeting will be a social mixer. No need RSVP but plan on joining the fun. For more information visit NAWN.org.</div>
LOCATION:
UID:e.304.312
SEQUENCE:3
DTSTAMP:20260422T102058Z
URL:https://cm.newalbanychamber.com/events/details/nawn-annual-meeting-mixer-10-22-2008-312
END:VEVENT

END:VCALENDAR
