BEGIN:VCALENDAR
VERSION:2.0
PRODID:-//ChamberMaster//Event Calendar 2.0//EN
METHOD:PUBLISH
X-PUBLISHED-TTL:P3D
REFRESH-INTERVAL:P3D
CALSCALE:GREGORIAN
BEGIN:VEVENT
DTSTART:20090407T133000Z
DTEND:20090407T153000Z
X-MICROSOFT-CDO-ALLDAYEVENT:FALSE
SUMMARY:NAWN Breakfast Club
DESCRIPTION:Join us for "The Breakfast Club" at First Watch on Hamilton Road. This is a casual\, fun breakfast out and a great way to catch up with friends! As always\, children are welcome.
X-ALT-DESC;FMTTYPE=text/html:Join us for "The Breakfast Club" at First Watch on Hamilton Road. This is a casual\, fun breakfast out and a great way to catch up with friends! As always\, children are welcome.
LOCATION:First Watch on Hamilton Road
UID:e.304.433
SEQUENCE:3
DTSTAMP:20260422T004617Z
URL:https://cm.newalbanychamber.com/events/details/nawn-breakfast-club-04-07-2009-433
END:VEVENT

END:VCALENDAR
