BEGIN:VCALENDAR
VERSION:2.0
PRODID:-//ChamberMaster//Event Calendar 2.0//EN
METHOD:PUBLISH
X-PUBLISHED-TTL:P3D
REFRESH-INTERVAL:P3D
CALSCALE:GREGORIAN
BEGIN:VEVENT
DTSTART:20090508T133000Z
DTEND:20090508T153000Z
X-MICROSOFT-CDO-ALLDAYEVENT:FALSE
SUMMARY:NAWN Breakfast Club
DESCRIPTION:Join us for our ever popular Breakfast Club. This month we will meet at Scramblers on Hamilton Road. As always\, children are always welcome!
X-ALT-DESC;FMTTYPE=text/html:Join us for our ever popular Breakfast Club. This month we will meet at Scramblers on Hamilton Road. As always\, children are always welcome!
LOCATION:Scramblers\, Hamilton Road
UID:e.304.438
SEQUENCE:3
DTSTAMP:20260422T004741Z
URL:https://cm.newalbanychamber.com/events/details/nawn-breakfast-club-05-08-2009-438
END:VEVENT

END:VCALENDAR
