BEGIN:VCALENDAR
VERSION:2.0
PRODID:-//ChamberMaster//Event Calendar 2.0//EN
METHOD:PUBLISH
X-PUBLISHED-TTL:P3D
REFRESH-INTERVAL:P3D
CALSCALE:GREGORIAN
BEGIN:VEVENT
DTSTART:20100902T133000Z
DTEND:20100902T153000Z
X-MICROSOFT-CDO-ALLDAYEVENT:FALSE
SUMMARY:NAWN Breakfast Club
DESCRIPTION:
X-ALT-DESC;FMTTYPE=text/html:
LOCATION:Sunny Street Cafe in New Albany
UID:e.304.690
SEQUENCE:3
DTSTAMP:20260421T002940Z
URL:https://cm.newalbanychamber.com/events/details/nawn-breakfast-club-09-02-2010-690
END:VEVENT

END:VCALENDAR
