BEGIN:VCALENDAR
VERSION:2.0
PRODID:-//ChamberMaster//Event Calendar 2.0//EN
METHOD:PUBLISH
X-PUBLISHED-TTL:P3D
REFRESH-INTERVAL:P3D
CALSCALE:GREGORIAN
BEGIN:VEVENT
DTSTART:20091022T230000Z
DTEND:20091023T010000Z
X-MICROSOFT-CDO-ALLDAYEVENT:FALSE
SUMMARY:NAWN Business Connections Meeting
DESCRIPTION:Our speaker will be Caroline Worley\, Esq.  She will speak about ?Starting or Maintaining Your Own Business: Basic Legal Considerations?. Join us as Caroline Z. Worley\, Esq. of Anthony Law\, LLC shows you how to navigate through the basic legal challenges you face in your business.
X-ALT-DESC;FMTTYPE=text/html:Our speaker will be Caroline Worley\, Esq.  She will speak about ?Starting or Maintaining Your Own Business: Basic Legal Considerations?. Join us as Caroline Z. Worley\, Esq. of Anthony Law\, LLC shows you how to navigate through the basic legal challenges you face in your business. \n\n
LOCATION:Out of the Ordinary Gifts\, 5133 Hampstead Village Center
UID:e.304.519
SEQUENCE:3
DTSTAMP:20260421T160525Z
URL:https://cm.newalbanychamber.com/events/details/nawn-business-connections-meeting-10-22-2009-519
END:VEVENT

END:VCALENDAR
