BEGIN:VCALENDAR
VERSION:2.0
PRODID:-//ChamberMaster//Event Calendar 2.0//EN
METHOD:PUBLISH
X-PUBLISHED-TTL:P3D
REFRESH-INTERVAL:P3D
CALSCALE:GREGORIAN
BEGIN:VEVENT
DTSTART:20091120T000000Z
DTEND:20091120T020000Z
X-MICROSOFT-CDO-ALLDAYEVENT:FALSE
SUMMARY:NAWN Business Connections Meeting
DESCRIPTION:Our speaker will be Meredith Liepelt\, Creative Client Attraction Strategist & President of Rich Life Marketing. Her talk is entitled ?How to Get Local PR on a Micro Budget.?
X-ALT-DESC;FMTTYPE=text/html:Our speaker will be Meredith Liepelt\, Creative Client Attraction Strategist & President of Rich Life Marketing. Her talk is entitled ?How to Get Local PR on a Micro Budget.? 
LOCATION:New Albany Realty\, 220 Market Street\, Suite D.
UID:e.304.520
SEQUENCE:3
DTSTAMP:20260421T144224Z
URL:https://cm.newalbanychamber.com/events/details/nawn-business-connections-meeting-11-19-2009-520
END:VEVENT

END:VCALENDAR
