BEGIN:VCALENDAR
VERSION:2.0
PRODID:-//ChamberMaster//Event Calendar 2.0//EN
METHOD:PUBLISH
X-PUBLISHED-TTL:P3D
REFRESH-INTERVAL:P3D
CALSCALE:GREGORIAN
BEGIN:VEVENT
DTSTART:20091203T233000Z
DTEND:20091204T023000Z
X-MICROSOFT-CDO-ALLDAYEVENT:FALSE
SUMMARY:NAWN Business Connections meeting
DESCRIPTION:Business Connections will meet Thursday\, December 3rd to ?Raise a Cup of Cheer? at the Hayley Gallery.
X-ALT-DESC;FMTTYPE=text/html:Business Connections will meet Thursday\, December 3rd to ?Raise a Cup of Cheer? at the Hayley Gallery.
LOCATION:Hayley Gallery
UID:e.304.544
SEQUENCE:3
DTSTAMP:20260421T130819Z
URL:https://cm.newalbanychamber.com/events/details/nawn-business-connections-meeting-12-03-2009-544
END:VEVENT

END:VCALENDAR
