BEGIN:VCALENDAR
VERSION:2.0
PRODID:-//ChamberMaster//Event Calendar 2.0//EN
METHOD:PUBLISH
X-PUBLISHED-TTL:P3D
REFRESH-INTERVAL:P3D
CALSCALE:GREGORIAN
BEGIN:VEVENT
DTSTART:20090617T230000Z
DTEND:20090618T010000Z
X-MICROSOFT-CDO-ALLDAYEVENT:FALSE
SUMMARY:NAWN Business Connections Social Networking Workshop
DESCRIPTION:NAWN Business Connections group will be meeting Wednesday\, June 17th at the New Albany Library meeting room from 7pm-9pm to learn more about on line social networking and ways it can help our businesses with Tiffany Odutoye presenting "7 Steps to Get Started with Social Networking". This interactive workshop will provide fundamental ideas\, strategies\, and best practices for using Facebook\,LinkedIn\, Twitter and similar sites for both you and your business (or non- profit).  Ms. Odutoye is the Founder and Chief Visionary Officer for Virtual Partner\, LLC\, which is a Virtual Assistance and Business Management practice.  Ms. Odutoye is a Social Media Specialist and has enjoyed a diverse administrative career with experience in marketing and business development. This class is open to all NAWN members and there is a $15 cost to attend. Plan to bring a laptop to the class. RSVP to Molly Fanning at business@NAWN.org so that you can take the pre-class survey so that Tiffany can tailor her talk to the class members needs.
X-ALT-DESC;FMTTYPE=text/html:NAWN Business Connections group will be meeting Wednesday\, June 17th at the New Albany Library meeting room from 7pm-9pm to learn more about on line social networking and ways it can help our businesses with Tiffany Odutoye presenting "7 Steps to Get Started with Social Networking". This interactive workshop will provide fundamental ideas\, strategies\, and best practices for using Facebook\,LinkedIn\, Twitter and similar sites for both you and your business (or non- profit).  Ms. Odutoye is the Founder and Chief Visionary Officer for Virtual Partner\, LLC\, which is a Virtual Assistance and Business Management practice.  Ms. Odutoye is a Social Media Specialist and has enjoyed a diverse administrative career with experience in marketing and business development. This class is open to all NAWN members and there is a $15 cost to attend. Plan to bring a laptop to the class. RSVP to Molly Fanning at business@NAWN.org so that you can take the pre-class survey so that Tiffany can tailor her talk to the class members needs. \n
LOCATION:The New Albany Library meeting room
UID:e.304.453
SEQUENCE:3
DTSTAMP:20260421T221119Z
URL:https://cm.newalbanychamber.com/events/details/nawn-business-connections-social-networking-workshop-06-17-2009-453
END:VEVENT

END:VCALENDAR
