BEGIN:VCALENDAR
VERSION:2.0
PRODID:-//ChamberMaster//Event Calendar 2.0//EN
METHOD:PUBLISH
X-PUBLISHED-TTL:P3D
REFRESH-INTERVAL:P3D
CALSCALE:GREGORIAN
BEGIN:VEVENT
DTSTART:20090505T220000Z
DTEND:20090506T020000Z
X-MICROSOFT-CDO-ALLDAYEVENT:FALSE
SUMMARY:NAWN Cinco de Mayo Happy Hour
DESCRIPTION:Celebrate! Cinco de Mayo!  with us at Don Patron's Restaurant in New Albany. Happy Hour has never been more fun than with a margarita in one hand and good friends on the other.
X-ALT-DESC;FMTTYPE=text/html:<div>Celebrate! Cinco de Mayo! &nbsp\;with us at Don Patron's Restaurant in New Albany. Happy Hour has never been more fun than with a margarita in one hand and good friends on the other.</div>
LOCATION:Don Patron's\, New Albany
UID:e.304.437
SEQUENCE:3
DTSTAMP:20260421T232709Z
URL:https://cm.newalbanychamber.com/events/details/nawn-cinco-de-mayo-happy-hour-05-05-2009-437
END:VEVENT

END:VCALENDAR
