BEGIN:VCALENDAR
VERSION:2.0
PRODID:-//ChamberMaster//Event Calendar 2.0//EN
METHOD:PUBLISH
X-PUBLISHED-TTL:P3D
REFRESH-INTERVAL:P3D
CALSCALE:GREGORIAN
BEGIN:VEVENT
DTSTART:20100228T000000Z
DTEND:20100228T030000Z
X-MICROSOFT-CDO-ALLDAYEVENT:FALSE
SUMMARY:NAWN Couple Event-Chili cook-off
DESCRIPTION:Get out your aprons\, roll up your sleeves and prepare your secret ingredient lists because it?s ?Chili Cook Off? time. By special request NAWN is hosting a Chili Cook Off at the home of Stephanie and Joe Sestak\, 4853 Meadway Drive on Saturday\, February 27 at 7pm. Please bring your drink of choice\, your prepared entry and  any toppings to serve 35 tasting-size samples to the event. Judging in the following categories will occur: Best Tasting Chili\, Most Unique\, Best Name. NAWN will supply soda\, water\, corn bread\, tortilla chips\, brownies and all serving utensils. As always\, we encourage you to participate\, but you can always attend even if you do not make chili.
X-ALT-DESC;FMTTYPE=text/html:Get out your aprons\, roll up your sleeves and prepare your secret ingredient lists because it?s ?Chili Cook Off? time. By special request NAWN is hosting a Chili Cook Off at the home of Stephanie and Joe Sestak\, 4853 Meadway Drive on Saturday\, February 27 at 7pm. Please bring your drink of choice\, your prepared entry and  any toppings to serve 35 tasting-size samples to the event. Judging in the following categories will occur: Best Tasting Chili\, Most Unique\, Best Name. NAWN will supply soda\, water\, corn bread\, tortilla chips\, brownies and all serving utensils. As always\, we encourage you to participate\, but you can always attend even if you do not make chili.
LOCATION:4853 Meadway Drive\, New Albany
UID:e.304.563
SEQUENCE:3
DTSTAMP:20260421T102948Z
URL:https://cm.newalbanychamber.com/events/details/nawn-couple-event-chili-cook-off-02-27-2010-563
END:VEVENT

END:VCALENDAR
