BEGIN:VCALENDAR
VERSION:2.0
PRODID:-//ChamberMaster//Event Calendar 2.0//EN
METHOD:PUBLISH
X-PUBLISHED-TTL:P3D
REFRESH-INTERVAL:P3D
CALSCALE:GREGORIAN
BEGIN:VEVENT
DTSTART:20090418T000000Z
DTEND:20090418T030000Z
X-MICROSOFT-CDO-ALLDAYEVENT:FALSE
SUMMARY:NAWN Couples Night Out
DESCRIPTION:Join us as we bowl the night away at the recently renovated Gahanna Lanes Bowling Center. This fun couple's event will have everyone enjoying themselves! After all\, what's more fun than bowling\, pizza and beer!  Prizes will be given for the best (and worst) games and most creative bowling attire (if you dare). Cost is $10 per person and yes\, you can come as a single! Pizza will be provided\, drinks may be purchased at the bar.
X-ALT-DESC;FMTTYPE=text/html:<div>Join us as we bowl the night away at the recently renovated Gahanna Lanes Bowling Center. This fun couple's event will have everyone enjoying themselves! After all\, what's more fun than bowling\, pizza and beer! &nbsp\;Prizes will be given for the best (and worst) games and most creative bowling attire (if you dare). Cost is $10 per person and yes\, you can come as a single! Pizza will be provided\, drinks may be purchased at the bar.</div>
LOCATION:Gahanna Lanes Bowling Center
UID:e.304.436
SEQUENCE:3
DTSTAMP:20260422T005246Z
URL:https://cm.newalbanychamber.com/events/details/nawn-couples-night-out-04-17-2009-436
END:VEVENT

END:VCALENDAR
