BEGIN:VCALENDAR
VERSION:2.0
PRODID:-//ChamberMaster//Event Calendar 2.0//EN
METHOD:PUBLISH
X-PUBLISHED-TTL:P3D
REFRESH-INTERVAL:P3D
CALSCALE:GREGORIAN
BEGIN:VEVENT
DTSTART:20090520T160000Z
DTEND:20090520T180000Z
X-MICROSOFT-CDO-ALLDAYEVENT:FALSE
SUMMARY:NAWN Empowering Women's Series--''Decluttering Your Life from the Inside Out''
DESCRIPTION:Believe it or not\, clutter in your life and in your physical space can be stopping you from moving forward and realizing your dreams. If not dealt with\, clutter can zap your power and leave you feeling weak and stressed out. During this discussion\, find out how to determine what your clutter is\, how it's impacting your life and how to get rid of it for good. Professional Life Coach Christine Kinney will show you in five easy steps how to get started in creating a clutter-free life\, which allows for prosperity to flow. We will meet at the New Albany Public Library's meeting room and will have a boxed lunch from New Albany's Main Street Deli to enjoy.
X-ALT-DESC;FMTTYPE=text/html:<div>Believe it or not\, clutter in your life and in your physical space can be stopping you from moving forward and realizing your dreams. If not dealt with\, clutter can zap your power and leave you feeling weak and stressed out. During this discussion\, find out how to determine what your clutter is\, how it's impacting your life and how to get rid of it for good. Professional Life Coach Christine Kinney will show you in five easy steps how to get started in creating a clutter-free life\, which allows for prosperity to flow. We will meet at the New Albany Public Library's meeting room and will have a boxed lunch from New Albany's Main Street Deli to enjoy.</div>
LOCATION:New Albany Library
UID:e.304.439
SEQUENCE:3
DTSTAMP:20260422T005044Z
URL:https://cm.newalbanychamber.com/events/details/nawn-empowering-women-s-series-decluttering-your-life-from-the-inside-out-05-20-2009-439
END:VEVENT

END:VCALENDAR
