BEGIN:VCALENDAR
VERSION:2.0
PRODID:-//ChamberMaster//Event Calendar 2.0//EN
METHOD:PUBLISH
X-PUBLISHED-TTL:P3D
REFRESH-INTERVAL:P3D
CALSCALE:GREGORIAN
BEGIN:VEVENT
DTSTART:20090321T140000Z
DTEND:20090321T180000Z
X-MICROSOFT-CDO-ALLDAYEVENT:FALSE
SUMMARY:NAWN's 10th Annual Charity Fashion Show and Luncheon
DESCRIPTION:The NAWN 2009 Fashion Show and Luncheon will feature all new fashions for the spring season generously donated by Columbus area retailers and modeled by New Albany-Plain Local school teachers and NAWN volunteers. This year?s event will benefit The Neighborhood Nest of The Neighborhood House\, Inc. which is  a non-profit Columbus organization that helps disadvantaged children\, families\, and adults become self-sufficient.  The Neighborhood Nest is a community-based prenatal health program for low-income pregnant women\, fathers\, and their families to prevent premature births and infant mortality.  Through both incentives and education\, the program promotes prenatal care and healthy behaviors during pregnancy and the first year of an infant's life.  All the money raised in the NAWN Spring Fashion Show and Charity Luncheon will be used to purchase supplies for the Neighborhood Nest store\, as well as contribute to general up-keep of the store.  For more information on the Neighborhood Nest\, please visit www.neighborhoodhouse.org.
X-ALT-DESC;FMTTYPE=text/html:The NAWN 2009 Fashion Show and Luncheon will feature all new fashions for the spring season generously donated by Columbus area retailers and modeled by New Albany-Plain Local school teachers and NAWN volunteers. This year?s event will benefit The Neighborhood Nest of The Neighborhood House\, Inc. which is  a non-profit Columbus organization that helps disadvantaged children\, families\, and adults become self-sufficient.  The Neighborhood Nest is a community-based prenatal health program for low-income pregnant women\, fathers\, and their families to prevent premature births and infant mortality.  Through both incentives and education\, the program promotes prenatal care and healthy behaviors during pregnancy and the first year of an infant's life.  All the money raised in the NAWN Spring Fashion Show and Charity Luncheon will be used to purchase supplies for the Neighborhood Nest store\, as well as contribute to general up-keep of the store.  For more information on the Neighborhood Nest\, please visit www.neighborhoodhouse.org. 
LOCATION:New Albany Country Club
UID:e.304.432
SEQUENCE:3
DTSTAMP:20260422T023029Z
URL:https://cm.newalbanychamber.com/events/details/nawn-s-10th-annual-charity-fashion-show-and-luncheon-03-21-2009-432
END:VEVENT

END:VCALENDAR
