BEGIN:VCALENDAR
VERSION:2.0
PRODID:-//ChamberMaster//Event Calendar 2.0//EN
METHOD:PUBLISH
X-PUBLISHED-TTL:P3D
REFRESH-INTERVAL:P3D
CALSCALE:GREGORIAN
BEGIN:VEVENT
DTSTART:20100320T170000Z
DTEND:20100320T200000Z
X-MICROSOFT-CDO-ALLDAYEVENT:FALSE
SUMMARY:NAWN's 11th Annual Fashion Show
DESCRIPTION:This year's event has some exciting new changes that are sure to make it a memorable day. The biggest change is the addition of a marketplace to our Fashion Show. Area vendors will have tables from which to shop for all of your fashion needs. Hosting a marketplace\, rather than selling the clothing that will be modeled in the show\, is a great way to maximize the money raised for our beneficiary\,  My Best Self program from Directions for Youth and Families. The money raised at our 2010 Fashion Show will go directly towards buying new infant simulators for the program.  In order to make that possible\, we need some assistance. Anyone interested in donating items for the silent auction or setting up a table in our new marketplace can contact Piper Wright\, Irene Spargrove or Kelly Tsakanikas at FashionShow@NAWN.org. We are looking to make this year's event the most successful one yet\, so please contact us if you can lend some of your time to a great cause. In the meantime\, watch the mail and mark your calendars for Saturday\, March 20\, 2010\, 1:00- 4:00pm and join us at New Albany Country Club as we ?Spring into Style?.
X-ALT-DESC;FMTTYPE=text/html:This year's event has some exciting new changes that are sure to make it a memorable day. The biggest change is the addition of a marketplace to our Fashion Show. Area vendors will have tables from which to shop for all of your fashion needs. Hosting a marketplace\, rather than selling the clothing that will be modeled in the show\, is a great way to maximize the money raised for our beneficiary\,  My Best Self program from Directions for Youth and Families. The money raised at our 2010 Fashion Show will go directly towards buying new infant simulators for the program.  In order to make that possible\, we need some assistance. Anyone interested in donating items for the silent auction or setting up a table in our new marketplace can contact Piper Wright\, Irene Spargrove or Kelly Tsakanikas at FashionShow@NAWN.org. We are looking to make this year's event the most successful one yet\, so please contact us if you can lend some of your time to a great cause. In the meantime\, watch the mail and mark your calendars for Saturday\, March 20\, 2010\, 1:00- 4:00pm and join us at New Albany Country Club as we ?Spring into Style?. \n<br>\n<br>
LOCATION:New Albany Country Club
UID:e.304.565
SEQUENCE:3
DTSTAMP:20260421T090022Z
URL:https://cm.newalbanychamber.com/events/details/nawn-s-11th-annual-fashion-show-03-20-2010-565
END:VEVENT

END:VCALENDAR
