BEGIN:VCALENDAR
VERSION:2.0
PRODID:-//ChamberMaster//Event Calendar 2.0//EN
METHOD:PUBLISH
X-PUBLISHED-TTL:P3D
REFRESH-INTERVAL:P3D
CALSCALE:GREGORIAN
BEGIN:VEVENT
DTSTART:20110312T180000Z
DTEND:20110312T210000Z
X-MICROSOFT-CDO-ALLDAYEVENT:FALSE
SUMMARY:NAWN's 12th Annual Charity Spring Fashion Show
DESCRIPTION:New Albany Women's Network Charity Spring Fashion Show benetting Amethyst\, Inc.\, SummerQuest Program\, which provides a fun camp experience as well as counseling for children of women undergoing treatment for drug and alchol addiction. This event is made possible by the generous support of our Presenting Sponsor\, Limited Brands.  In addition to the event's Silent Auction\, patrons may purchase fashion-related clothing\, jewelry\, and accessories at the Marketplace.
X-ALT-DESC;FMTTYPE=text/html:New Albany Women's Network Charity Spring Fashion Show benetting Amethyst\, Inc.\, SummerQuest Program\, which provides a fun camp experience as well as counseling for children of women undergoing treatment for drug and alchol addiction. This event is made possible by the generous support of our Presenting Sponsor\, Limited Brands.  In addition to the event's Silent Auction\, patrons may purchase fashion-related clothing\, jewelry\, and accessories at the Marketplace.  
LOCATION:New Albany Country Club
UID:e.304.765
SEQUENCE:3
DTSTAMP:20260420T141954Z
URL:https://cm.newalbanychamber.com/events/details/nawn-s-12th-annual-charity-spring-fashion-show-03-12-2011-765
END:VEVENT

END:VCALENDAR
