BEGIN:VCALENDAR
VERSION:2.0
PRODID:-//ChamberMaster//Event Calendar 2.0//EN
METHOD:PUBLISH
X-PUBLISHED-TTL:P3D
REFRESH-INTERVAL:P3D
CALSCALE:GREGORIAN
BEGIN:VEVENT
DTSTART:20091211T000000Z
DTEND:20091211T020000Z
X-MICROSOFT-CDO-ALLDAYEVENT:FALSE
SUMMARY:NAWN's Annual Cookie Exchange
DESCRIPTION:NAWN?s Annual Cookie Exchange is one of our most anticipated socials! Every year we come together for a fun girls night of friendship and cookies. At the cookie exchange you will make and bring 3 dozen cookies on a single platter that will be available to ?swap? with other NAWN members. You will be able to select from all the other member?s cookies until you have your take-home container filled with 3 dozen cookies of your choice. We also ask that you bring a small appetizer to share with the group\, all drinks will be provided. This is a great event to bring a friend new to NAWN! The energy at this event is amazing and there will be information on 2010 committees\, activities\, fundraising events and much\, much more.
X-ALT-DESC;FMTTYPE=text/html:NAWN?s Annual Cookie Exchange is one of our most anticipated socials! Every year we come together for a fun girls night of friendship and cookies. At the cookie exchange you will make and bring 3 dozen cookies on a single platter that will be available to ?swap? with other NAWN members. You will be able to select from all the other member?s cookies until you have your take-home container filled with 3 dozen cookies of your choice. We also ask that you bring a small appetizer to share with the group\, all drinks will be provided. This is a great event to bring a friend new to NAWN! The energy at this event is amazing and there will be information on 2010 committees\, activities\, fundraising events and much\, much more. 
LOCATION:7300 Lambton Park Road
UID:e.304.523
SEQUENCE:3
DTSTAMP:20260421T143828Z
URL:https://cm.newalbanychamber.com/events/details/nawn-s-annual-cookie-exchange-12-10-2009-523
END:VEVENT

END:VCALENDAR
