BEGIN:VCALENDAR
VERSION:2.0
PRODID:-//ChamberMaster//Event Calendar 2.0//EN
METHOD:PUBLISH
X-PUBLISHED-TTL:P3D
REFRESH-INTERVAL:P3D
CALSCALE:GREGORIAN
BEGIN:VEVENT
DTSTART:20100122T000000Z
DTEND:20100122T020000Z
X-MICROSOFT-CDO-ALLDAYEVENT:FALSE
SUMMARY:NAWN's Annual Open House
DESCRIPTION:Join us at The Jeanne B. McCoy Center for the Arts\, Lobby Area\, for NAWN?s Annual Open House. Find information on NAWN?s upcoming events\, both social and philanthropic\, special interest groups and what?s new for 2010.  Sign up for committees\, mingle with friends and enjoy a fun night out. If you have yet to renew your membership for 2010\, this is a great opportunity to do so. Bring a friend new to NAWN and you both will be entered into a drawing\, your friend for a NAWN membership for 2010 and you\, for a gift certificate to Mia Cucina
X-ALT-DESC;FMTTYPE=text/html:Join us at The Jeanne B. McCoy Center for the Arts\, Lobby Area\, for NAWN?s Annual Open House. Find information on NAWN?s upcoming events\, both social and philanthropic\, special interest groups and what?s new for 2010.  Sign up for committees\, mingle with friends and enjoy a fun night out. If you have yet to renew your membership for 2010\, this is a great opportunity to do so. Bring a friend new to NAWN and you both will be entered into a drawing\, your friend for a NAWN membership for 2010 and you\, for a gift certificate to Mia Cucina
LOCATION:The Jeanne B. McCoy Center for the Arts\, Lobby Area
UID:e.304.560
SEQUENCE:3
DTSTAMP:20260421T130658Z
URL:https://cm.newalbanychamber.com/events/details/nawn-s-annual-open-house-01-21-2010-560
END:VEVENT

END:VCALENDAR
