BEGIN:VCALENDAR
VERSION:2.0
PRODID:-//ChamberMaster//Event Calendar 2.0//EN
METHOD:PUBLISH
X-PUBLISHED-TTL:P3D
REFRESH-INTERVAL:P3D
CALSCALE:GREGORIAN
BEGIN:VEVENT
DTSTART:20100114T143000Z
DTEND:20100114T163000Z
X-MICROSOFT-CDO-ALLDAYEVENT:FALSE
SUMMARY:NAWN's Breakfast Club
DESCRIPTION:NAWN?s ?Breakfast Club? is a way to get together in a fun atmosphere and chat about what?s new in your life. Feel free to bring your children and a friend that might be new to NAWN. Everyone is always welcome!
X-ALT-DESC;FMTTYPE=text/html:NAWN?s ?Breakfast Club? is a way to get together in a fun atmosphere and chat about what?s new in your life. Feel free to bring your children and a friend that might be new to NAWN. Everyone is always welcome! 
LOCATION:Rise and Dine--New Albany
UID:e.304.559
SEQUENCE:3
DTSTAMP:20260421T130636Z
URL:https://cm.newalbanychamber.com/events/details/nawn-s-breakfast-club-01-14-2010-559
END:VEVENT

END:VCALENDAR
