BEGIN:VCALENDAR
VERSION:2.0
PRODID:-//ChamberMaster//Event Calendar 2.0//EN
METHOD:PUBLISH
X-PUBLISHED-TTL:P3D
REFRESH-INTERVAL:P3D
CALSCALE:GREGORIAN
BEGIN:VEVENT
DTSTART:20100304T143000Z
DTEND:20100304T163000Z
X-MICROSOFT-CDO-ALLDAYEVENT:FALSE
SUMMARY:NAWN's Breakfast Club
DESCRIPTION:Join us for our ever-fun ?Breakfast Club?as we get to know new friends and catch up with one another. Children and a friend that might be new to NAWN are always welcome and encouraged. We will meet at Rise and Dine in New Albany and enjoy breakfast and great conversation.
X-ALT-DESC;FMTTYPE=text/html:Join us for our ever-fun ?Breakfast Club?as we get to know new friends and catch up with one another. Children and a friend that might be new to NAWN are always welcome and encouraged. We will meet at Rise and Dine in New Albany and enjoy breakfast and great conversation.
LOCATION:Rise and Dine New Albany
UID:e.304.564
SEQUENCE:3
DTSTAMP:20260421T085348Z
URL:https://cm.newalbanychamber.com/events/details/nawn-s-breakfast-club-03-04-2010-564
END:VEVENT

END:VCALENDAR
