BEGIN:VCALENDAR
VERSION:2.0
PRODID:-//ChamberMaster//Event Calendar 2.0//EN
METHOD:PUBLISH
X-PUBLISHED-TTL:P3D
REFRESH-INTERVAL:P3D
CALSCALE:GREGORIAN
BEGIN:VEVENT
DTSTART:20090707T133000Z
DTEND:20090707T153000Z
X-MICROSOFT-CDO-ALLDAYEVENT:FALSE
SUMMARY:NAWN's Breakfast Club
DESCRIPTION:Join us for our ever popular breakfast club! Kids are always welcome!
X-ALT-DESC;FMTTYPE=text/html:Join us for our ever popular breakfast club! Kids are always welcome! 
LOCATION:Panera on Hamilton Road
UID:e.304.452
SEQUENCE:3
DTSTAMP:20260421T202639Z
URL:https://cm.newalbanychamber.com/events/details/nawn-s-breakfast-club-07-07-2009-452
END:VEVENT

END:VCALENDAR
