BEGIN:VCALENDAR
VERSION:2.0
PRODID:-//ChamberMaster//Event Calendar 2.0//EN
METHOD:PUBLISH
X-PUBLISHED-TTL:P3D
REFRESH-INTERVAL:P3D
CALSCALE:GREGORIAN
BEGIN:VEVENT
DTSTART:20090901T133000Z
DTEND:20090901T153000Z
X-MICROSOFT-CDO-ALLDAYEVENT:FALSE
SUMMARY:NAWN's Breakfast Club
DESCRIPTION:NAWN's "Breakfast Club" is a way to get together in a fun atmosphere and chat about what's new in your life. Feel free to bring your children and a friend that might be new to NAWN. Everyone is always welcome! Please RSVP to Suzanne Fife at membership@NAWN.org
X-ALT-DESC;FMTTYPE=text/html:NAWN's "Breakfast Club" is a way to get together in a fun atmosphere and chat about what's new in your life. Feel free to bring your children and a friend that might be new to NAWN. Everyone is always welcome! Please RSVP to Suzanne Fife at membership@NAWN.org
LOCATION:Rise and Dine\, New Albany
UID:e.304.480
SEQUENCE:3
DTSTAMP:20260421T190235Z
URL:https://cm.newalbanychamber.com/events/details/nawn-s-breakfast-club-09-01-2009-480
END:VEVENT

END:VCALENDAR
