BEGIN:VCALENDAR
VERSION:2.0
PRODID:-//ChamberMaster//Event Calendar 2.0//EN
METHOD:PUBLISH
X-PUBLISHED-TTL:P3D
REFRESH-INTERVAL:P3D
CALSCALE:GREGORIAN
BEGIN:VEVENT
DTSTART:20091105T143000Z
DTEND:20091105T163000Z
X-MICROSOFT-CDO-ALLDAYEVENT:FALSE
SUMMARY:NAWN's Breakfast Club
DESCRIPTION:Join us for our ever popular Breakfast Club. This will be our last Breakfast Club this year so be sure to join us as we enjoy the delcious food at First Watch. This is a great way to meet new friends in a relaxed atmosphere. It is also a great event for friends new to NAWN. As always\, children are welcome!
X-ALT-DESC;FMTTYPE=text/html:Join us for our ever popular Breakfast Club. This will be our last Breakfast Club this year so be sure to join us as we enjoy the delcious food at First Watch. This is a great way to meet new friends in a relaxed atmosphere. It is also a great event for friends new to NAWN. As always\, children are welcome!
LOCATION:First Watch\, New Albany
UID:e.304.545
SEQUENCE:3
DTSTAMP:20260421T143938Z
URL:https://cm.newalbanychamber.com/events/details/nawn-s-breakfast-club-11-05-2009-545
END:VEVENT

END:VCALENDAR
