BEGIN:VCALENDAR
VERSION:2.0
PRODID:-//ChamberMaster//Event Calendar 2.0//EN
METHOD:PUBLISH
X-PUBLISHED-TTL:P3D
REFRESH-INTERVAL:P3D
CALSCALE:GREGORIAN
BEGIN:VEVENT
DTSTART:20090827T223000Z
DTEND:20090828T000000Z
X-MICROSOFT-CDO-ALLDAYEVENT:FALSE
SUMMARY:NAWN's Business Connections Meeting
DESCRIPTION:Jennifer Chrysler\, NA Community Development director will speak to our group about the importance of small business to the New Albany community. Jennifer holds a Bachelor Degree in Urban Studies and Sociology from the University of Pittsburgh and an M.C.R.P. Masters of City and Regional Planning from The Ohio State University.  Jennifer and her husband\, Ryan\, have two children and reside in the New Albany area.
X-ALT-DESC;FMTTYPE=text/html:Jennifer Chrysler\, NA Community Development director will speak to our group about the importance of small business to the New Albany community. Jennifer holds a Bachelor Degree in Urban Studies and Sociology from the University of Pittsburgh and an M.C.R.P. Masters of City and Regional Planning from The Ohio State University.  Jennifer and her husband\, Ryan\, have two children and reside in the New Albany area. \n \n
LOCATION:Hayley Gallery\, 45 Second Street\, New Albany
UID:e.304.483
SEQUENCE:3
DTSTAMP:20260421T203126Z
URL:https://cm.newalbanychamber.com/events/details/nawn-s-business-connections-meeting-08-27-2009-483
END:VEVENT

END:VCALENDAR
