BEGIN:VCALENDAR
VERSION:2.0
PRODID:-//ChamberMaster//Event Calendar 2.0//EN
METHOD:PUBLISH
X-PUBLISHED-TTL:P3D
REFRESH-INTERVAL:P3D
CALSCALE:GREGORIAN
BEGIN:VEVENT
DTSTART:20090817T230000Z
DTEND:20090818T010000Z
X-MICROSOFT-CDO-ALLDAYEVENT:FALSE
SUMMARY:NAWN's Business Connections ''Style and Sangria''
DESCRIPTION:A special evening of "Style & Sangria" with Amy Salinger\, fashion stylist\, 2413 Colts Neck Road\, Blacklick\, 43004\nAmy is a nationally recognized fashion expert who has worked or appeared on\, "The Oprah Winfrey Show"\, TLC's "What Not to Wear"\, "The Makeover Story"\, "The Today Show" and MTV. Amy is dedicated to bringing fashion out of your closet and will teach you that there is no such thing as having "nothing to wear". Her techniques are proven to save time and money. Sip Sangria & sharpen your style. You will better understand what you own\, know how to use it and how to evolve it. Amy's fashion mantra is: "Buy what you need\, use what you have." Bring an item from your closet that stumps you & go from stumped to stylish! Let Amy stylize you! Visit www.amysalinger.net or her blog: www.sassnstyle.com . RSVP to Molly Fanning at business@nawn.org Bring a friend
X-ALT-DESC;FMTTYPE=text/html: A special evening of "Style & Sangria" with Amy Salinger\, fashion stylist\, 2413 Colts Neck Road\, Blacklick\, 43004\nAmy is a nationally recognized fashion expert who has worked or appeared on\, "The Oprah Winfrey Show"\, TLC's "What Not to Wear"\, "The Makeover Story"\, "The Today Show" and MTV. Amy is dedicated to bringing fashion out of your closet and will teach you that there is no such thing as having "nothing to wear". Her techniques are proven to save time and money. Sip Sangria & sharpen your style. You will better understand what you own\, know how to use it and how to evolve it. Amy's fashion mantra is: "Buy what you need\, use what you have." Bring an item from your closet that stumps you & go from stumped to stylish! Let Amy stylize you! Visit www.amysalinger.net or her blog: www.sassnstyle.com . RSVP to Molly Fanning at business@nawn.org Bring a friend\n
LOCATION:2413 Colts Neck Road\, Blacklick 43004
UID:e.304.479
SEQUENCE:3
DTSTAMP:20260421T192626Z
URL:https://cm.newalbanychamber.com/events/details/nawn-s-business-connections-style-and-sangria-08-17-2009-479
END:VEVENT

END:VCALENDAR
