BEGIN:VCALENDAR
VERSION:2.0
PRODID:-//ChamberMaster//Event Calendar 2.0//EN
METHOD:PUBLISH
X-PUBLISHED-TTL:P3D
REFRESH-INTERVAL:P3D
CALSCALE:GREGORIAN
BEGIN:VEVENT
DTSTART:20080104T150000Z
DTEND:20080104T160000Z
X-MICROSOFT-CDO-ALLDAYEVENT:FALSE
SUMMARY:NAWN's Coffee Gatherings
DESCRIPTION:NAWN's Coffee Gatherings\, is an informal social gatherin hosted monthly by the New Albany Wmen's Network.  This event is held every 1st Friday of the month\, from 10-11 a.m. at the Panera Bread\, 4965 Hamilton Rd.
X-ALT-DESC;FMTTYPE=text/html:<div>NAWN's Coffee Gatherings\, is an informal social gatherin hosted monthly by the New Albany Wmen's Network.&nbsp\; This event is held every 1st Friday of the month\, from 10-11 a.m. at the Panera Bread\, 4965 Hamilton Rd.&nbsp\;</div>
LOCATION:Panera Bread4965 Hamilton RoadColumbus\, Ohio 43032
UID:e.304.170
SEQUENCE:3
DTSTAMP:20260424T103834Z
URL:https://cm.newalbanychamber.com/events/details/nawn-s-coffee-gatherings-01-04-2008-170
END:VEVENT

END:VCALENDAR
