BEGIN:VCALENDAR
VERSION:2.0
PRODID:-//ChamberMaster//Event Calendar 2.0//EN
METHOD:PUBLISH
X-PUBLISHED-TTL:P3D
REFRESH-INTERVAL:P3D
CALSCALE:GREGORIAN
BEGIN:VEVENT
DTSTART:20091121T003000Z
DTEND:20091121T033000Z
X-MICROSOFT-CDO-ALLDAYEVENT:FALSE
SUMMARY:NAWN's Comedy Night at the McCoy
DESCRIPTION:Chicago City Limits is NYC?s longest running Off-Broadway show! Hailed as "hysterical and unpredictable" by The New York Times\, An Evening With Chicago City Limits\, the national touring production\, has been presented at such diverse venues as Lincoln Center\, the Smithsonian Institution\, Jerry Lewis Labor Day Telethon\, the 1995 Super Bowl\, and at colleges and regional theaters in North America and Europe.\n\nDirector Paul Zuckerman defines improvisation as "comedy without a net." The troupe creates a one of a kind theatrical experience by taking suggestions from audience members and crafting scenes on the spot - everything from mini-musicals to game shows. The result is a hilarious evening of comedy that is totally unique. No two Chicago City Limits productions are ever alike.
X-ALT-DESC;FMTTYPE=text/html:Chicago City Limits is NYC?s longest running Off-Broadway show! Hailed as "hysterical and unpredictable" by The New York Times\, An Evening With Chicago City Limits\, the national touring production\, has been presented at such diverse venues as Lincoln Center\, the Smithsonian Institution\, Jerry Lewis Labor Day Telethon\, the 1995 Super Bowl\, and at colleges and regional theaters in North America and Europe.\n\nDirector Paul Zuckerman defines improvisation as "comedy without a net." The troupe creates a one of a kind theatrical experience by taking suggestions from audience members and crafting scenes on the spot - everything from mini-musicals to game shows. The result is a hilarious evening of comedy that is totally unique. No two Chicago City Limits productions are ever alike.\n
LOCATION:Jeanne B. McCoy Center for the Arts
UID:e.304.522
SEQUENCE:3
DTSTAMP:20260421T143955Z
URL:https://cm.newalbanychamber.com/events/details/nawn-s-comedy-night-at-the-mccoy-11-20-2009-522
END:VEVENT

END:VCALENDAR
