BEGIN:VCALENDAR
VERSION:2.0
PRODID:-//ChamberMaster//Event Calendar 2.0//EN
METHOD:PUBLISH
X-PUBLISHED-TTL:P3D
REFRESH-INTERVAL:P3D
CALSCALE:GREGORIAN
BEGIN:VEVENT
DTSTART:20101210T000000Z
DTEND:20101210T020000Z
X-MICROSOFT-CDO-ALLDAYEVENT:FALSE
SUMMARY:NAWN's Cookie Exchange
DESCRIPTION:
X-ALT-DESC;FMTTYPE=text/html:
LOCATION:Home of Ingrid Brownlee
UID:e.304.697
SEQUENCE:3
DTSTAMP:20260420T174858Z
URL:https://cm.newalbanychamber.com/events/details/nawn-s-cookie-exchange-12-09-2010-697
END:VEVENT

END:VCALENDAR
