BEGIN:VCALENDAR
VERSION:2.0
PRODID:-//ChamberMaster//Event Calendar 2.0//EN
METHOD:PUBLISH
X-PUBLISHED-TTL:P3D
REFRESH-INTERVAL:P3D
CALSCALE:GREGORIAN
BEGIN:VEVENT
DTSTART:20100222T170000Z
DTEND:20100222T190000Z
X-MICROSOFT-CDO-ALLDAYEVENT:FALSE
SUMMARY:NAWN's Empowering Women's Series
DESCRIPTION:?Fifteen minutes to company?Why can?t I stay organized??\n\nMargi Gundelfinger\, a specialist in Home Organization who?s passion it is to help women become independent and ?stay on top? of the many tasks we juggle everyday\, will speak on how to maintain a presentable\, guest ready home with easy organizational techniques for every room that doesn?t include stuffing everything into the closet or under a bed.  We encourage you to submit specific questions with your RSVP so they can be covered in the talk. The event will be held in the Meeting Room at the New Albany Public Library. A boxed lunch from New Albany?s Main Street Deli will be served.
X-ALT-DESC;FMTTYPE=text/html:?Fifteen minutes to company?Why can?t I stay organized??\n<br>Margi Gundelfinger\, a specialist in Home Organization who?s passion it is to help women become independent and ?stay on top? of the many tasks we juggle everyday\, will speak on how to maintain a presentable\, guest ready home with easy organizational techniques for every room that doesn?t include stuffing everything into the closet or under a bed.  We encourage you to submit specific questions with your RSVP so they can be covered in the talk. The event will be held in the Meeting Room at the New Albany Public Library. A boxed lunch from New Albany?s Main Street Deli will be served. \n<br>\n<br>
LOCATION:New Albany public library meeting room
UID:e.304.562
SEQUENCE:3
DTSTAMP:20260421T102904Z
URL:https://cm.newalbanychamber.com/events/details/nawn-s-empowering-women-s-series-02-22-2010-562
END:VEVENT

END:VCALENDAR
