BEGIN:VCALENDAR
VERSION:2.0
PRODID:-//ChamberMaster//Event Calendar 2.0//EN
METHOD:PUBLISH
X-PUBLISHED-TTL:P3D
REFRESH-INTERVAL:P3D
CALSCALE:GREGORIAN
BEGIN:VEVENT
DTSTART:20091111T170000Z
DTEND:20091111T190000Z
X-MICROSOFT-CDO-ALLDAYEVENT:FALSE
SUMMARY:NAWN's Empowering Women's Series--A Woman's Guide to Money
DESCRIPTION:?A Woman?s Guide to $$...Everything you need to know and should know about your finances?\nJeanne Griffin and Pegi Deeter\, NAWN?s accountants and NAWN members will be speaking on\nfinancial issues specific to women and their families. Topics may include taxes\, children and finances\, how to become a CHIEF FINANCIAL PARENT and more! We encourage you to submit specific questions or topics of interest with your RSVP so that your questions can be answered anonymously. Door prizes will include: a copy of the book "Yes\, You can...Raise Financially Aware Kids"\, complimentary review of your 2007 & 2008 individual income tax returns\, a $25 Gift Card.
X-ALT-DESC;FMTTYPE=text/html:?A Woman?s Guide to $$...Everything you need to know and should know about your finances?\nJeanne Griffin and Pegi Deeter\, NAWN?s accountants and NAWN members will be speaking on\nfinancial issues specific to women and their families. Topics may include taxes\, children and finances\, how to become a CHIEF FINANCIAL PARENT and more! We encourage you to submit specific questions or topics of interest with your RSVP so that your questions can be answered anonymously. Door prizes will include: a copy of the book "Yes\, You can...Raise Financially Aware Kids"\, complimentary review of your 2007 & 2008 individual income tax returns\, a $25 Gift Card.
LOCATION:8703 Belworth Square\, New Albany
UID:e.304.546
SEQUENCE:3
DTSTAMP:20260421T144427Z
URL:https://cm.newalbanychamber.com/events/details/nawn-s-empowering-women-s-series-a-woman-s-guide-to-money-11-11-2009-546
END:VEVENT

END:VCALENDAR
