BEGIN:VCALENDAR
VERSION:2.0
PRODID:-//ChamberMaster//Event Calendar 2.0//EN
METHOD:PUBLISH
X-PUBLISHED-TTL:P3D
REFRESH-INTERVAL:P3D
CALSCALE:GREGORIAN
BEGIN:VEVENT
DTSTART:20090921T170000Z
DTEND:20090921T190000Z
X-MICROSOFT-CDO-ALLDAYEVENT:FALSE
SUMMARY:NAWN's Empowering Women Series
DESCRIPTION:Have you ever wanted to learn the secrets on how some people just pull a party together\nfrom start to finish? How they seem to have all the perfect details? Where they get all the\ncute ideas? If so\, then we have the Empowering Women?s Series for you! On Monday\,\nSeptember 21st\, join us at the New Albany Library Meeting Room as we take you through\nthree party set-ups from start to finish\, including invites\, place settings\, recipes\, parting gifts\,\nand more. You will be able to sample food from each party and learn the secrets to\nrecreating the party scenes in your home. To RSVP\, email social@NAWN.org. Cost to\nattend is $15 which will cover food and materials. Space is limited so RSVP now
X-ALT-DESC;FMTTYPE=text/html:Have you ever wanted to learn the secrets on how some people just pull a party together\nfrom start to finish? How they seem to have all the perfect details? Where they get all the\ncute ideas? If so\, then we have the Empowering Women?s Series for you! On Monday\,\nSeptember 21st\, join us at the New Albany Library Meeting Room as we take you through\nthree party set-ups from start to finish\, including invites\, place settings\, recipes\, parting gifts\,\nand more. You will be able to sample food from each party and learn the secrets to\nrecreating the party scenes in your home. To RSVP\, email social@NAWN.org. Cost to\nattend is $15 which will cover food and materials. Space is limited so RSVP now\n
LOCATION:New Albany Library meeting room
UID:e.304.482
SEQUENCE:3
DTSTAMP:20260421T190601Z
URL:https://cm.newalbanychamber.com/events/details/nawn-s-empowering-women-series-09-21-2009-482
END:VEVENT

END:VCALENDAR
