BEGIN:VCALENDAR
VERSION:2.0
PRODID:-//ChamberMaster//Event Calendar 2.0//EN
METHOD:PUBLISH
X-PUBLISHED-TTL:P3D
REFRESH-INTERVAL:P3D
CALSCALE:GREGORIAN
BEGIN:VEVENT
DTSTART:20101012T160000Z
DTEND:20101012T180000Z
X-MICROSOFT-CDO-ALLDAYEVENT:FALSE
SUMMARY:NAWN's Empowering Women Series
DESCRIPTION:Women Re-entering the Workforce\, hosted by New Directions Career Center
X-ALT-DESC;FMTTYPE=text/html:Women Re-entering the Workforce\, hosted by New Directions Career Center
LOCATION:
UID:e.304.692
SEQUENCE:3
DTSTAMP:20260420T225544Z
URL:https://cm.newalbanychamber.com/events/details/nawn-s-empowering-women-series-10-12-2010-692
END:VEVENT

END:VCALENDAR
