BEGIN:VCALENDAR
VERSION:2.0
PRODID:-//ChamberMaster//Event Calendar 2.0//EN
METHOD:PUBLISH
X-PUBLISHED-TTL:P3D
REFRESH-INTERVAL:P3D
CALSCALE:GREGORIAN
BEGIN:VEVENT
DTSTART:20090829T230000Z
DTEND:20090830T030000Z
X-MICROSOFT-CDO-ALLDAYEVENT:FALSE
SUMMARY:NAWN's Evening in New Albany
DESCRIPTION:Save the date for "An Evening in New Albany" Saturday\, August 29th\, from 7pm to 11pm at the New Albany Country Club. The evening will feature heavy appetizers\, silent and silent premier auction\, birdhouse auction\, band with dancing and of course great friends - all for the great cause of Habitat for Humanity and NAWN's Endowment Fund. To donate items or services ot the Silent and Premier Auctions or to be a sponsor of the event\, contact Mary Ellen Hoffman\, Jenny Maple\, or Sarah Ryan at ena@NAWN.org. Or donate directly to Habitat for Humanity online at www.firstgiving.com/NAWNena.
X-ALT-DESC;FMTTYPE=text/html:<div>Save the date for &quot\;An Evening in New Albany&quot\; Saturday\, August 29th\, from 7pm to 11pm at the New Albany Country Club. The evening will feature heavy appetizers\, silent and silent premier auction\, birdhouse auction\, band with dancing and of course great friends - all for the great cause of Habitat for Humanity and NAWN&rsquo\;s Endowment Fund. To donate items or services ot the Silent and Premier Auctions or to be a sponsor of the event\, contact Mary Ellen Hoffman\, Jenny Maple\, or Sarah Ryan at <a href="mailto:ena@NAWN.org">ena@NAWN.org</a>. Or donate directly to Habitat for Humanity online at <a href="http://www.firstgiving.com/NAWNena">www.firstgiving.com/NAWNena</a>.</div>
LOCATION:The New Albany Country Club
UID:e.304.455
SEQUENCE:3
DTSTAMP:20260421T190406Z
URL:https://cm.newalbanychamber.com/events/details/nawn-s-evening-in-new-albany-08-29-2009-455
END:VEVENT

END:VCALENDAR
