BEGIN:VCALENDAR
VERSION:2.0
PRODID:-//ChamberMaster//Event Calendar 2.0//EN
METHOD:PUBLISH
X-PUBLISHED-TTL:P3D
REFRESH-INTERVAL:P3D
CALSCALE:GREGORIAN
BEGIN:VEVENT
DTSTART:20090602T230000Z
DTEND:20090603T010000Z
X-MICROSOFT-CDO-ALLDAYEVENT:FALSE
SUMMARY:NAWN's Flip Flops and Fancy Feet
DESCRIPTION:One Last Hoorah before the kid?s come home for summer vacation! Wear your fanciest flip flops and paint those piggies because we are getting ready for summer. Prizes will be given for the best pedicure and best flip flops! All we ask is that you bring an appetizer to share\, beverages will be provided. The gathering will be held at the home of Heather Buchanan\, 5015 Brooksview Circle\, New Albany. To join us\, RSVP to Tonya Petrucci at 855-1507 or social@NAWN.org by Friday\, May 29th.
X-ALT-DESC;FMTTYPE=text/html:One Last Hoorah before the kid?s come home for summer vacation! Wear your fanciest flip flops and paint those piggies because we are getting ready for summer. Prizes will be given for the best pedicure and best flip flops! All we ask is that you bring an appetizer to share\, beverages will be provided. The gathering will be held at the home of Heather Buchanan\, 5015 Brooksview Circle\, New Albany. To join us\, RSVP to Tonya Petrucci at 855-1507 or social@NAWN.org by Friday\, May 29th.                
LOCATION:5015 Brooksview Circle\, New Albany
UID:e.304.449
SEQUENCE:3
DTSTAMP:20260421T231725Z
URL:https://cm.newalbanychamber.com/events/details/nawn-s-flip-flops-and-fancy-feet-06-02-2009-449
END:VEVENT

END:VCALENDAR
