BEGIN:VCALENDAR
VERSION:2.0
PRODID:-//ChamberMaster//Event Calendar 2.0//EN
METHOD:PUBLISH
X-PUBLISHED-TTL:P3D
REFRESH-INTERVAL:P3D
CALSCALE:GREGORIAN
BEGIN:VEVENT
DTSTART:20101027T230000Z
DTEND:20101028T010000Z
X-MICROSOFT-CDO-ALLDAYEVENT:FALSE
SUMMARY:NAWN's Halloween Party
DESCRIPTION:"Ghoul's Night Out"
X-ALT-DESC;FMTTYPE=text/html:"Ghoul's Night Out"
LOCATION:
UID:e.304.694
SEQUENCE:3
DTSTAMP:20260420T210814Z
URL:https://cm.newalbanychamber.com/events/details/nawn-s-halloween-party-10-27-2010-694
END:VEVENT

END:VCALENDAR
