BEGIN:VCALENDAR
VERSION:2.0
PRODID:-//ChamberMaster//Event Calendar 2.0//EN
METHOD:PUBLISH
X-PUBLISHED-TTL:P3D
REFRESH-INTERVAL:P3D
CALSCALE:GREGORIAN
BEGIN:VEVENT
DTSTART:20090629T140000Z
DTEND:20090629T180000Z
X-MICROSOFT-CDO-ALLDAYEVENT:FALSE
SUMMARY:NAWN's Picnic at the Columbus Zoo and Aquarium
DESCRIPTION:If you have plans to go to the zoo this month\, why not make it Monday\, June 29th? NAWN members will meet outside the zoo gates at 10am or if you want to meet up for lunch at the pavilions by the Stings\, Wings ?N Playthings Park at Noon. Join us for a fun way to get together with the kids and enjoy all the Columbus Zoo and Aquarium has to offer! RSVP to Tonya Petrucci at 855-1507 or social@NAWN.org by Friday\, June 26th.
X-ALT-DESC;FMTTYPE=text/html:If you have plans to go to the zoo this month\, why not make it Monday\, June 29th? NAWN members will meet outside the zoo gates at 10am or if you want to meet up for lunch at the pavilions by the Stings\, Wings ?N Playthings Park at Noon. Join us for a fun way to get together with the kids and enjoy all the Columbus Zoo and Aquarium has to offer! RSVP to Tonya Petrucci at 855-1507 or social@NAWN.org by Friday\, June 26th.
LOCATION:Columbus Zoo and Aquarium
UID:e.304.451
SEQUENCE:3
DTSTAMP:20260421T220500Z
URL:https://cm.newalbanychamber.com/events/details/nawn-s-picnic-at-the-columbus-zoo-and-aquarium-06-29-2009-451
END:VEVENT

END:VCALENDAR
