BEGIN:VCALENDAR
VERSION:2.0
PRODID:-//ChamberMaster//Event Calendar 2.0//EN
METHOD:PUBLISH
X-PUBLISHED-TTL:P3D
REFRESH-INTERVAL:P3D
CALSCALE:GREGORIAN
BEGIN:VEVENT
DTSTART:20090618T230000Z
DTEND:20090619T010000Z
X-MICROSOFT-CDO-ALLDAYEVENT:FALSE
SUMMARY:NAWN's Recipe Swap ''Easy Recipes for Busy Moms''
DESCRIPTION:Back by popular demand is our recipe swap. This year?s recipes will focus on quick and easy recipes for busy moms. Whether it?s your favorite casserole\, a quick and easy crock pot recipe or a run out the door appetizer or dessert\, you?ve got the recipes and we want them! You will bring the prepared dish to share and provide the recipe (in advance) to be distributed to the group! This tasty soiree will take place at the home of Mandy Ramicone\, 7121 Sumption Drive\, New Albany. RSVP to Tonya Petrucci at 855-1507 or social@NAWN.org by Monday\, June 15th.
X-ALT-DESC;FMTTYPE=text/html:Back by popular demand is our recipe swap. This year?s recipes will focus on quick and easy recipes for busy moms. Whether it?s your favorite casserole\, a quick and easy crock pot recipe or a run out the door appetizer or dessert\, you?ve got the recipes and we want them! You will bring the prepared dish to share and provide the recipe (in advance) to be distributed to the group! This tasty soiree will take place at the home of Mandy Ramicone\, 7121 Sumption Drive\, New Albany. RSVP to Tonya Petrucci at 855-1507 or social@NAWN.org by Monday\, June 15th.              
LOCATION:7121 Sumption Drive\, New Albany
UID:e.304.450
SEQUENCE:3
DTSTAMP:20260421T220407Z
URL:https://cm.newalbanychamber.com/events/details/nawn-s-recipe-swap-easy-recipes-for-busy-moms-06-18-2009-450
END:VEVENT

END:VCALENDAR
