BEGIN:VCALENDAR
VERSION:2.0
PRODID:-//ChamberMaster//Event Calendar 2.0//EN
METHOD:PUBLISH
X-PUBLISHED-TTL:P3D
REFRESH-INTERVAL:P3D
CALSCALE:GREGORIAN
BEGIN:VEVENT
DTSTART:20090910T230000Z
DTEND:20090911T010000Z
X-MICROSOFT-CDO-ALLDAYEVENT:FALSE
SUMMARY:NAWN's Wine Tasting and 2010 Membership Drive
DESCRIPTION:Join us at our Ladies Night Out Wine Tasting hosted at Hayley Gallery in New Albany. NAWN member and owner\, Hayley Savage\, has graciously opened her doors so that we may enjoy her wonderful Gallery as we mingle and sample wine. This is a great opportunity to bring your friends that may be new to NAWN or not yet members. We are starting our 2010 Membership Drive at this event and will be giving away two NAWN memberships\, one for a current NAWN member and one for their guest. You will be entered for each guest you bring so be sure to spread the word. Any new member who joins for 2010 receives the remainder of 2009 free! RSVP to social@NAWN.org by Monday\, September 7th. We ask that each person attending bring a bottle of wine to use in the tasting.
X-ALT-DESC;FMTTYPE=text/html:Join us at our Ladies Night Out Wine Tasting hosted at Hayley Gallery in New Albany. NAWN member and owner\, Hayley Savage\, has graciously opened her doors so that we may enjoy her wonderful Gallery as we mingle and sample wine. This is a great opportunity to bring your friends that may be new to NAWN or not yet members. We are starting our 2010 Membership Drive at this event and will be giving away two NAWN memberships\, one for a current NAWN member and one for their guest. You will be entered for each guest you bring so be sure to spread the word. Any new member who joins for 2010 receives the remainder of 2009 free! RSVP to social@NAWN.org by Monday\, September 7th. We ask that each person attending bring a bottle of wine to use in the tasting.\n
LOCATION:Hayley Gallery in New Albany
UID:e.304.481
SEQUENCE:3
DTSTAMP:20260421T190555Z
URL:https://cm.newalbanychamber.com/events/details/nawn-s-wine-tasting-and-2010-membership-drive-09-10-2009-481
END:VEVENT

END:VCALENDAR
