BEGIN:VCALENDAR
VERSION:2.0
PRODID:-//ChamberMaster//Event Calendar 2.0//EN
METHOD:PUBLISH
X-PUBLISHED-TTL:P3D
REFRESH-INTERVAL:P3D
CALSCALE:GREGORIAN
BEGIN:VEVENT
DTSTART:20100205T000000Z
DTEND:20100205T030000Z
X-MICROSOFT-CDO-ALLDAYEVENT:FALSE
SUMMARY:NAWN Signature Drinks Mixology
DESCRIPTION:At the home of Marjie Hancock\, 4156 Sudbrook Square West\, NAWN will be demonstrating four signature drinks just in time for Valentine?s Day. Not only will you sample these tasty drinks\, you will leave with recipes in hand to impress your special someone on February 14th. This will be a fun ladies night out welcoming our newest members to NAWN. Please bring an appetizer to share\, all drinks will be provided.
X-ALT-DESC;FMTTYPE=text/html:At the home of Marjie Hancock\, 4156 Sudbrook Square West\, NAWN will be demonstrating four signature drinks just in time for Valentine?s Day. Not only will you sample these tasty drinks\, you will leave with recipes in hand to impress your special someone on February 14th. This will be a fun ladies night out welcoming our newest members to NAWN. Please bring an appetizer to share\, all drinks will be provided.
LOCATION:4156 sudbrook square west
UID:e.304.561
SEQUENCE:3
DTSTAMP:20260421T114203Z
URL:https://cm.newalbanychamber.com/events/details/nawn-signature-drinks-mixology-02-04-2010-561
END:VEVENT

END:VCALENDAR
