BEGIN:VCALENDAR
VERSION:2.0
PRODID:-//ChamberMaster//Event Calendar 2.0//EN
METHOD:PUBLISH
X-PUBLISHED-TTL:P3D
REFRESH-INTERVAL:P3D
CALSCALE:GREGORIAN
BEGIN:VEVENT
DTSTART:20090319T230000Z
DTEND:20090320T010000Z
X-MICROSOFT-CDO-ALLDAYEVENT:FALSE
SUMMARY:NAWN social event
DESCRIPTION:"Gettin' Pretty for the Fashion Show" at Polished Nail Spa\nA fun night out complete with appetizers\, drinks and a manicure\, pedicure or both! Get those fingers & toes all dolled up for the fashion show by joining us at Polished Nail Spa\, 274 E. Main Street in New Albany. Manicures are $15 and pedicures are $30. RSVP by Friday\, March 13th with the service(s) you would like to Tonya Petrucci at 855-1507 to at social@NAWN.org  We hope to see you there!
X-ALT-DESC;FMTTYPE=text/html:"Gettin' Pretty for the Fashion Show" at Polished Nail Spa\nA fun night out complete with appetizers\, drinks and a manicure\, pedicure or both! Get those fingers & toes all dolled up for the fashion show by joining us at Polished Nail Spa\, 274 E. Main Street in New Albany. Manicures are $15 and pedicures are $30. RSVP by Friday\, March 13th with the service(s) you would like to Tonya Petrucci at 855-1507 to at social@NAWN.org  We hope to see you there!
LOCATION:Polished Nail Spa 274 E. Main St.\, New Albany
UID:e.304.431
SEQUENCE:3
DTSTAMP:20260422T022541Z
URL:https://cm.newalbanychamber.com/events/details/nawn-social-event-03-19-2009-431
END:VEVENT

END:VCALENDAR
