BEGIN:VCALENDAR
VERSION:2.0
PRODID:-//ChamberMaster//Event Calendar 2.0//EN
METHOD:PUBLISH
X-PUBLISHED-TTL:P3D
REFRESH-INTERVAL:P3D
CALSCALE:GREGORIAN
BEGIN:VEVENT
DTSTART:20090211T160000Z
DTEND:20090211T180000Z
X-MICROSOFT-CDO-ALLDAYEVENT:FALSE
SUMMARY:NAWN Valentine's Baking Class
DESCRIPTION:Join us as we learn how to bake\, ice and decorate tasty treats for Valentine?s Day! You will learn how to flood and ice cutout sugar cookies\, make jam filled Linzer Cookies and bake and ice cupcakes from the kitchens of the famous Magnolia Bakery in NYC. You will leave with recipes and treats so bring an apron and come ready to learn. Cost is $15/person\, space is limited to 15. To RSVP\, contact Tonya Petrucci at social@NAWN.org or 855-1507 by 2/6/09.
X-ALT-DESC;FMTTYPE=text/html:Join us as we learn how to bake\, ice and decorate tasty treats for Valentine?s Day! You will learn how to flood and ice cutout sugar cookies\, make jam filled Linzer Cookies and bake and ice cupcakes from the kitchens of the famous Magnolia Bakery in NYC. You will leave with recipes and treats so bring an apron and come ready to learn. Cost is $15/person\, space is limited to 15. To RSVP\, contact Tonya Petrucci at social@NAWN.org or 855-1507 by 2/6/09.
LOCATION:7026 Maynard Place East\, New Albany OH 43054
UID:e.304.411
SEQUENCE:3
DTSTAMP:20260422T052946Z
URL:https://cm.newalbanychamber.com/events/details/nawn-valentine-s-baking-class-02-11-2009-411
END:VEVENT

END:VCALENDAR
