BEGIN:VCALENDAR
VERSION:2.0
PRODID:-//ChamberMaster//Event Calendar 2.0//EN
METHOD:PUBLISH
X-PUBLISHED-TTL:P3D
REFRESH-INTERVAL:P3D
CALSCALE:GREGORIAN
BEGIN:VEVENT
DTSTART:20240423T213000Z
DTEND:20240423T230000Z
X-MICROSOFT-CDO-ALLDAYEVENT:FALSE
SUMMARY:New Albany 101: Public Service Department Tour
DESCRIPTION:Celebrate Earth Day to Arbor Day with the City of New Albany this April 21-27!\n\n\n\nJoin us on April 23 from 5:30 to 7 p.m. at the New Albany public service complex for a behind-the-scenes tour of the department that makes New Albany better for both residents and visitors every day of the year. New Albany's public service crews take care of everything from street trees to snow removal\, and traffic lights to sanitary sewers. Participants can learn more about our vehicles\, equipment\, salt barn\, solar panels\, and composting!\n\n\n\nNew Albany 101 is an IDEA Implementation Panel initiative created with the goal of making local government accessible to all of New Albany's residents.
X-ALT-DESC;FMTTYPE=text/html:<br />\nCelebrate Earth Day to Arbor Day with the City of New Albany this April 21-27!<br />\n<br />\nJoin us on April 23 from 5:30 to 7 p.m. at the New Albany public service complex for a behind-the-scenes tour of the department that makes New Albany better for both residents and visitors every day of the year. New Albany&rsquo\;s public service crews take care of everything from street trees to snow removal\, and traffic lights to sanitary sewers. Participants can learn more about our vehicles\, equipment\, salt barn\, solar panels\, and composting!<br />\n<br />\n<a href="https://newalbanyohio.org/news/2024/03/new-albany-101/" target="_blank">New Albany 101</a> is an IDEA Implementation Panel initiative created with the goal of making local government accessible to all of New Albany&#39\;s residents.
LOCATION:Public Service Complex
UID:e.304.18742
SEQUENCE:3
DTSTAMP:20260422T104248Z
URL:https://cm.newalbanychamber.com/events/details/new-albany-101-public-service-department-tour-18742
END:VEVENT

END:VCALENDAR
