BEGIN:VCALENDAR
VERSION:2.0
PRODID:-//ChamberMaster//Event Calendar 2.0//EN
METHOD:PUBLISH
X-PUBLISHED-TTL:P3D
REFRESH-INTERVAL:P3D
CALSCALE:GREGORIAN
BEGIN:VEVENT
DTSTART;VALUE=DATE:20080921
DTEND;VALUE=DATE:20080922
TRANSP:TRANSPARENT
X-MICROSOFT-CDO-ALLDAYEVENT:TRUE
SUMMARY:New Albany 10K Walking Race
DESCRIPTION:New Albany 10K Walking Race sponsored by the New Albany Walking Club.Sunday\, September 21st at 9:00 a.m.Both the 10K and the half marathon will begin together\, starting and finishing at Market Sq.Awards will be given to the top three men and women finishers in different divisions.Entries are limited to 3500 total entrants.All packets need to be picked up before race day.Friday\, Sept. 19th - McCoy Center for the Arts - 5-8 p.m.Saturday\, Sept. 20th -McCoy Center for the Arts - 9 a.m.-5 p.m.
X-ALT-DESC;FMTTYPE=text/html:<div>New Albany 10K Walking Race sponsored by the New Albany Walking Club.</div><div>Sunday\, September 21st at 9:00 a.m.</div><div>Both the 10K and the half marathon will begin together\, starting and finishing at Market Sq.</div><div>Awards will be given to the top three men and women finishers in different divisions.</div><div>Entries are limited to 3500 total entrants.</div><div>All packets need to be picked up before race day.</div><div>Friday\, Sept. 19th - McCoy Center for the Arts - 5-8 p.m.</div><div>Saturday\, Sept. 20th -McCoy Center for the Arts - 9 a.m.-5 p.m.</div>
LOCATION:Market Square and surrounding New Albany
UID:e.304.165
SEQUENCE:3
DTSTAMP:20260422T115113Z
URL:https://cm.newalbanychamber.com/events/details/new-albany-10k-walking-race-09-21-2008-165
END:VEVENT

END:VCALENDAR
