BEGIN:VCALENDAR
VERSION:2.0
PRODID:-//ChamberMaster//Event Calendar 2.0//EN
METHOD:PUBLISH
X-PUBLISHED-TTL:P3D
REFRESH-INTERVAL:P3D
CALSCALE:GREGORIAN
BEGIN:VEVENT
DTSTART:20090215T210000Z
DTEND:20090215T230000Z
X-MICROSOFT-CDO-ALLDAYEVENT:FALSE
SUMMARY:New Albany Arts Council Concert
DESCRIPTION:The New Albany Arts Council would like to invite you to attend the upcoming concert by Capriccio! Vocal Ensemble and the New Albany Community Band to be held at the McCoy Center for the Performing Arts.Capriccio! is the "new-in-town community chorus\, made up of 70 auditioned adult volunteer singers\, directed by Larry Griffin\, Artistic Director and New Albany High School's Karrie Horton.
X-ALT-DESC;FMTTYPE=text/html:<p>The New Albany Arts Council would like to invite you to attend the upcoming concert by Capriccio! Vocal Ensemble and the New Albany Community Band to be held at the McCoy Center for the Performing Arts.</p><p>Capriccio! is the &quot\;new-in-town community chorus\, made up of 70 auditioned adult volunteer singers\, directed by Larry Griffin\, Artistic Director and New Albany High School's Karrie Horton.</p><p>&nbsp\;</p>
LOCATION:The McCoy Center for the Arts100 Granville StreetNew Albany\, Ohio 43054
UID:e.304.420
SEQUENCE:3
DTSTAMP:20260422T053311Z
URL:https://cm.newalbanychamber.com/events/details/new-albany-arts-council-concert-02-15-2009-420
END:VEVENT

END:VCALENDAR
