BEGIN:VCALENDAR
VERSION:2.0
PRODID:-//ChamberMaster//Event Calendar 2.0//EN
METHOD:PUBLISH
X-PUBLISHED-TTL:P3D
REFRESH-INTERVAL:P3D
CALSCALE:GREGORIAN
BEGIN:VEVENT
DTSTART;VALUE=DATE:20080524
DTEND;VALUE=DATE:20080525
TRANSP:TRANSPARENT
X-MICROSOFT-CDO-ALLDAYEVENT:TRUE
SUMMARY:New Albany Ballet Recital
DESCRIPTION:Ballet recital for all New Albany Ballet Dancers
X-ALT-DESC;FMTTYPE=text/html:<div>Ballet recital for all New Albany Ballet Dancers</div>
LOCATION:McCoy Center for the Arts100 W. Granville St.New Albany\, OH 43054
UID:e.304.189
SEQUENCE:3
DTSTAMP:20260422T185318Z
URL:https://cm.newalbanychamber.com/events/details/new-albany-ballet-recital-05-24-2008-189
END:VEVENT

END:VCALENDAR
