BEGIN:VCALENDAR
VERSION:2.0
PRODID:-//ChamberMaster//Event Calendar 2.0//EN
METHOD:PUBLISH
X-PUBLISHED-TTL:P3D
REFRESH-INTERVAL:P3D
CALSCALE:GREGORIAN
BEGIN:VEVENT
DTSTART;VALUE=DATE:20081201
DTEND;VALUE=DATE:20081207
TRANSP:TRANSPARENT
X-MICROSOFT-CDO-ALLDAYEVENT:TRUE
SUMMARY:New Albany Cares Week
DESCRIPTION:The New Albany High School Eagle Ambassadors\, in conjunction with the entire New Albany Learning Campus\, would like to announce "New Albany Cares" week. Please join us in collecting food items for the Mid-Ohio Food Bank. Below is a list of itmes most needed by the food bank. You may send those items with your son or daughter to their indidvidual buildings duing the week of December 1st through 6th. We would like to invite you to attend our Friday and Saturday night (5th and 6th) Girl's and Boy's Basketball games. Admission will be FREE when you donated two canned good items at the door. All donated items will be placed on a truck for the Mid-Ohio Food Bank on Saturday\, December 6th during our DRIVE-BY FOOD DRIVE from 8am unitl 12pm in the high school/middle school bus loop. Please stop by and donated some food for this worthy cause. Boxed/Dry Goods: Bisquick Mixes\, Oatmeal\, Baking Mixes\, Corn Meal\, Dry Beans\, Pasta\, Rice and Pancake and Bread Mixes.Meat Group: Canned Chili\, Stew Fish and Meat Condensed or Chunky Soups.Fruits & Vegetables: Canned Vegetables\, Fruits\, Juices and Instant Potatoes.Personal Care Items: Toothpaste\, Toothbrushes\, Shampoo\, and Soap.Food for Kids: Macaron and Cheese\, Canned Soup - Chicken Noodle and Alphabet\, Instant Oatmeal\, Peanut Butter\, Apple Chips\, Cereal Grained Bars\, Applesauce Packs\, Pudding Packs\, Cheese or Peanut Butter Crackers\, Individual Fruit Cup Packs\, Popcorn\, Oatmeal Cookies\, Graham Crackers\, Individual Juice Carton Packs\, Sports Beverages\, Cocoa Mixes (to mix w/water)\, Flavored Mixes for Milk\, and Lemonade Mix.
X-ALT-DESC;FMTTYPE=text/html:<div>The New Albany High School Eagle Ambassadors\, in conjunction with the entire New Albany Learning Campus\, would like to announce &quot\;New Albany Cares&quot\; week. Please join us in collecting food items for the Mid-Ohio Food Bank. Below is a list of itmes most needed by the food bank. You may send those items with your son or daughter to their indidvidual buildings duing the week of December 1st through 6th. We would like to invite you to attend our Friday and Saturday night (5th and 6th) Girl's and Boy's Basketball games. Admission will be FREE when you donated two canned good items at the door. All donated items will be placed on a truck for the Mid-Ohio Food Bank on Saturday\, December 6th during our DRIVE-BY FOOD DRIVE from 8am unitl 12pm in the high school/middle school bus loop. Please stop by and donated some food for this worthy cause.</div><div>&nbsp\;</div><div>Boxed/Dry Goods: Bisquick Mixes\, Oatmeal\, Baking Mixes\, Corn Meal\, Dry Beans\, Pasta\, Rice and Pancake and Bread Mixes.</div><div>Meat Group: Canned Chili\, Stew Fish and Meat Condensed or Chunky Soups.</div><div>Fruits &amp\; Vegetables: Canned Vegetables\, Fruits\, Juices and Instant Potatoes.</div><div>Personal Care Items: Toothpaste\, Toothbrushes\, Shampoo\, and Soap.</div><div>Food for Kids: Macaron and Cheese\, Canned Soup - Chicken Noodle and Alphabet\, Instant Oatmeal\, Peanut Butter\, Apple Chips\, Cereal Grained Bars\, Applesauce Packs\, Pudding Packs\, Cheese or Peanut Butter Crackers\, Individual Fruit Cup Packs\, Popcorn\, Oatmeal Cookies\, Graham Crackers\, Individual Juice Carton Packs\, Sports Beverages\, Cocoa Mixes (to mix w/water)\, Flavored Mixes for Milk\, and Lemonade Mix.</div>
LOCATION:
UID:e.304.393
SEQUENCE:3
DTSTAMP:20260422T070852Z
URL:https://cm.newalbanychamber.com/events/details/new-albany-cares-week-12-01-2008-393
END:VEVENT

END:VCALENDAR
