BEGIN:VCALENDAR
VERSION:2.0
PRODID:-//ChamberMaster//Event Calendar 2.0//EN
METHOD:PUBLISH
X-PUBLISHED-TTL:P3D
REFRESH-INTERVAL:P3D
CALSCALE:GREGORIAN
BEGIN:VEVENT
DTSTART:20080610T010000Z
DTEND:20080609T210000Z
X-MICROSOFT-CDO-ALLDAYEVENT:FALSE
SUMMARY:New Albany Chamber Golf Classic 2008
DESCRIPTION:New Albany Annual Golf Classic.  Shot Gun Start\n\nNational City Bank - Awards Dinner Sponsor\n\nByers Import - Lunch and Auto Sponsor\n\nTween Brands - Event Sponsor\n\nInsurance of Central Ohio\, Executive Jet and AIG Private Client Group - Sponsors of the Master's Hole in One Contest.
X-ALT-DESC;FMTTYPE=text/html:<div><font size="3"><strong>New Albany Annual Golf Classic.&nbsp\;&nbsp\;Shot Gun Start</strong></font></div>\n\n<div><strong><font color="#339966" size="3">National City Bank - Awards Dinner Sponsor</font></strong></div>\n\n<div><strong><font color="#339966" size="2">Byers Import - Lunch and Auto Sponsor</font></strong></div>\n\n<div><strong><font color="#339966" size="2">Tween Brands - Event Sponsor</font></strong></div>\n\n<div><strong><font color="#339966" size="2">Insurance of Central Ohio\, Executive Jet and AIG Private Client Group - Sponsors of the Master&#39\;s Hole in One Contest.</font></strong></div>\n
LOCATION:New Albany Country Club One Club Lane New Albany\, Ohio
UID:e.304.163
SEQUENCE:3
DTSTAMP:20260422T173239Z
URL:https://cm.newalbanychamber.com/events/details/new-albany-chamber-golf-classic-2008-06-09-2008-163
END:VEVENT

END:VCALENDAR
